BEGIN:VCALENDAR
VERSION:2.0
PRODID:-//EELK Halliste Püha Anna kogudus - ECPv6.2.9//NONSGML v1.0//EN
CALSCALE:GREGORIAN
METHOD:PUBLISH
X-WR-CALNAME:EELK Halliste Püha Anna kogudus
X-ORIGINAL-URL:https://halliste.eelk.ee
X-WR-CALDESC:Events for EELK Halliste Püha Anna kogudus
REFRESH-INTERVAL;VALUE=DURATION:PT1H
X-Robots-Tag:noindex
X-PUBLISHED-TTL:PT1H
BEGIN:VTIMEZONE
TZID:Europe/Tallinn
BEGIN:DAYLIGHT
TZOFFSETFROM:+0200
TZOFFSETTO:+0300
TZNAME:EEST
DTSTART:20250330T010000
END:DAYLIGHT
BEGIN:STANDARD
TZOFFSETFROM:+0300
TZOFFSETTO:+0200
TZNAME:EET
DTSTART:20251026T010000
END:STANDARD
END:VTIMEZONE
BEGIN:VEVENT
DTSTART;TZID=Europe/Tallinn:20250824T110000
DTEND;TZID=Europe/Tallinn:20250824T120000
DTSTAMP:20260422T000047
CREATED:20250801T165422Z
LAST-MODIFIED:20250801T165427Z
UID:464-1756033200-1756036800@halliste.eelk.ee
SUMMARY:Jumalateenistus armulauaga
DESCRIPTION:Pühapäev pärast nelipüha \nMissa juhtmõte: Soosinguajad
URL:https://halliste.eelk.ee/syndmus/jumalateenistus-armulauaga-6/
END:VEVENT
END:VCALENDAR