BEGIN:VCALENDAR
VERSION:2.0
PRODID:-//EELK Halliste Püha Anna kogudus - ECPv6.2.9//NONSGML v1.0//EN
CALSCALE:GREGORIAN
METHOD:PUBLISH
X-ORIGINAL-URL:https://halliste.eelk.ee
X-WR-CALDESC:Events for EELK Halliste Püha Anna kogudus
REFRESH-INTERVAL;VALUE=DURATION:PT1H
X-Robots-Tag:noindex
X-PUBLISHED-TTL:PT1H
BEGIN:VTIMEZONE
TZID:Europe/Tallinn
BEGIN:DAYLIGHT
TZOFFSETFROM:+0200
TZOFFSETTO:+0300
TZNAME:EEST
DTSTART:20250330T010000
END:DAYLIGHT
BEGIN:STANDARD
TZOFFSETFROM:+0300
TZOFFSETTO:+0200
TZNAME:EET
DTSTART:20251026T010000
END:STANDARD
BEGIN:DAYLIGHT
TZOFFSETFROM:+0200
TZOFFSETTO:+0300
TZNAME:EEST
DTSTART:20260329T010000
END:DAYLIGHT
BEGIN:STANDARD
TZOFFSETFROM:+0300
TZOFFSETTO:+0200
TZNAME:EET
DTSTART:20261025T010000
END:STANDARD
END:VTIMEZONE
BEGIN:VEVENT
DTSTART;TZID=Europe/Tallinn:20251012T110000
DTEND;TZID=Europe/Tallinn:20251012T120000
DTSTAMP:20260421T212927
CREATED:20251002T195830Z
LAST-MODIFIED:20251003T112811Z
UID:474-1760266800-1760270400@halliste.eelk.ee
SUMMARY:Jumalateenistus armulauaga
DESCRIPTION:pühapäev peale nelipüha – Lõikustänupüha\n\nMissa juhtmõte: Igapäevane leib \nPeale jumalateenistust katame kohvilaua
URL:https://halliste.eelk.ee/syndmus/jumalateenistus-armulauaga-9/
END:VEVENT
BEGIN:VEVENT
DTSTART;TZID=Europe/Tallinn:20251026T110000
DTEND;TZID=Europe/Tallinn:20251026T120000
DTSTAMP:20260421T212927
CREATED:20251002T195959Z
LAST-MODIFIED:20251003T112644Z
UID:476-1761476400-1761480000@halliste.eelk.ee
SUMMARY:Jumalateenistus armulauaga
DESCRIPTION:20.pühapäev peale nelipüha \nMissa jJuhtmõte: Usk ja uskmatus \nPeale jumalateenistust katame kohvilaua
URL:https://halliste.eelk.ee/syndmus/jumalateenistus-armulauaga-10/
END:VEVENT
BEGIN:VEVENT
DTSTART;TZID=Europe/Tallinn:20251109T110000
DTEND;TZID=Europe/Tallinn:20251109T120000
DTSTAMP:20260421T212927
CREATED:20251101T142002Z
LAST-MODIFIED:20251101T142434Z
UID:487-1762686000-1762689600@halliste.eelk.ee
SUMMARY:Jumalateenistus armulauaga
DESCRIPTION:Pühapäev pärast nelipüha\, Kiriklik misjonipüha \nMissa juhtmõte: Usuvõitlus
URL:https://halliste.eelk.ee/syndmus/jumalateenistus-armulauaga-11/
END:VEVENT
BEGIN:VEVENT
DTSTART;TZID=Europe/Tallinn:20251123T110000
DTEND;TZID=Europe/Tallinn:20251123T120000
DTSTAMP:20260421T212927
CREATED:20251101T142143Z
LAST-MODIFIED:20251101T142202Z
UID:489-1763895600-1763899200@halliste.eelk.ee
SUMMARY:Jumalateenistus armulauaga
DESCRIPTION:Igavikupühapäev. Kuningas Kristuse püha \nMissa juhtmõte: Kristus – taeva ja maa Issand
URL:https://halliste.eelk.ee/syndmus/jumalateenistus-armulauaga-12/
END:VEVENT
BEGIN:VEVENT
DTSTART;TZID=Europe/Tallinn:20251130T110000
DTEND;TZID=Europe/Tallinn:20251130T120000
DTSTAMP:20260421T212927
CREATED:20251101T142336Z
LAST-MODIFIED:20251101T142336Z
UID:491-1764500400-1764504000@halliste.eelk.ee
SUMMARY:Jumalateenistus armulauaga
DESCRIPTION:Advendiaja 1. pühapäev. Kirikuaasta algus \nMissa juhtmõte: Sinu Kuningas tuleb alandlikkuses
URL:https://halliste.eelk.ee/syndmus/jumalateenistus-armulauaga-13/
END:VEVENT
BEGIN:VEVENT
DTSTART;TZID=Europe/Tallinn:20251219T100000
DTEND;TZID=Europe/Tallinn:20251219T110000
DTSTAMP:20260421T212927
CREATED:20251128T163222Z
LAST-MODIFIED:20251128T163222Z
UID:513-1766138400-1766142000@halliste.eelk.ee
SUMMARY:Halliste kooli jõulukirik
DESCRIPTION:Halliste kooli jõulukirik \nJagame üheskoos laule\, palveid ja jõulurõõmu!
URL:https://halliste.eelk.ee/syndmus/halliste-kooli-joulukirik/
END:VEVENT
BEGIN:VEVENT
DTSTART;TZID=Europe/Tallinn:20251221T110000
DTEND;TZID=Europe/Tallinn:20251221T123000
DTSTAMP:20260421T212927
CREATED:20251128T163330Z
LAST-MODIFIED:20251128T163330Z
UID:515-1766314800-1766320200@halliste.eelk.ee
SUMMARY:Jumalateenistus armulauaga 4.advent
DESCRIPTION:Advendiaja 4. pühapäev\, Toomapäev \nHalliste Püha Anna kiriku taaspühitsemise 34. aastapäev \nMissa \nKaasa teenib Audru segakoor\, dirigent Tiia Tamm \nSuurannetajate tänamine ja pärast missat rõõmus kulgemine Advendikohvikusse Annatares (kl 12-16) \nJuhtmõte: Issand on lähedal
URL:https://halliste.eelk.ee/syndmus/jumalateenistus-armulauaga-4-advent/
END:VEVENT
BEGIN:VEVENT
DTSTART;TZID=Europe/Tallinn:20251224T140000
DTEND;TZID=Europe/Tallinn:20251224T150000
DTSTAMP:20260421T212927
CREATED:20251128T163503Z
LAST-MODIFIED:20251128T163503Z
UID:517-1766584800-1766588400@halliste.eelk.ee
SUMMARY:Jõululaupäeva jumalateenistus
DESCRIPTION:Jõuluõhtu ehk jõululaupäev \nLiturgiline jumalateenistus \nKaasa teenib Abja naiskoor Õbeäidsme\, dirigent Külli Salumäe \nJuhtmõte: Vaata\, ma kuulutan teile suurt rõõmu! \n 
URL:https://halliste.eelk.ee/syndmus/joululaupaeva-jumalateenistus/
END:VEVENT
BEGIN:VEVENT
DTSTART;TZID=Europe/Tallinn:20251225T110000
DTEND;TZID=Europe/Tallinn:20251225T120000
DTSTAMP:20260421T212927
CREATED:20251128T163635Z
LAST-MODIFIED:20251128T163635Z
UID:519-1766660400-1766664000@halliste.eelk.ee
SUMMARY:Jumalateenistus armulauaga 1.jõulupüha
DESCRIPTION:Kristuse sündimispüha ehk 1. jõulupüha \nMissa juhtmõte: Sõna sai lihaks \n  \n 
URL:https://halliste.eelk.ee/syndmus/jumalateenistus-armulauaga-1-joulupuha/
END:VEVENT
BEGIN:VEVENT
DTSTART;TZID=Europe/Tallinn:20251231T110000
DTEND;TZID=Europe/Tallinn:20251231T120000
DTSTAMP:20260421T212927
CREATED:20251128T163746Z
LAST-MODIFIED:20251128T163801Z
UID:521-1767178800-1767182400@halliste.eelk.ee
SUMMARY:Vana-aasta jumalateenistus armulauaga
DESCRIPTION:Vana-aasta missa \nJuhtmõte- Meie aeg on Issanda kätes \n 
URL:https://halliste.eelk.ee/syndmus/vana-aasta-jumalateenistus/
END:VEVENT
BEGIN:VEVENT
DTSTART;TZID=Europe/Tallinn:20260111T110000
DTEND;TZID=Europe/Tallinn:20260111T120000
DTSTAMP:20260421T212927
CREATED:20260103T171819Z
LAST-MODIFIED:20260103T171822Z
UID:525-1768129200-1768132800@halliste.eelk.ee
SUMMARY:Jumalateenistus armulauaga
DESCRIPTION:Kristuse ristimise püha ehk 11. pühapäev pärast ilmumispüha \nMissa juhtmõte: Ristimise and
URL:https://halliste.eelk.ee/syndmus/jumalateenistus-armulauaga-14/
END:VEVENT
BEGIN:VEVENT
DTSTART;TZID=Europe/Tallinn:20260125T110000
DTEND;TZID=Europe/Tallinn:20260125T120000
DTSTAMP:20260421T212927
CREATED:20260103T171933Z
LAST-MODIFIED:20260103T171933Z
UID:527-1769338800-1769342400@halliste.eelk.ee
SUMMARY:Jumalateenistus armulauaga
DESCRIPTION:3. pühapäev pärast ilmumispüha \nMissa juhtmõte: Jeesus äratab usule \n  \n 
URL:https://halliste.eelk.ee/syndmus/jumalateenistus-armulauaga-15/
END:VEVENT
BEGIN:VEVENT
DTSTART;TZID=Europe/Tallinn:20260208T110000
DTEND;TZID=Europe/Tallinn:20260208T120000
DTSTAMP:20260421T212927
CREATED:20260124T054953Z
LAST-MODIFIED:20260124T055734Z
UID:530-1770548400-1770552000@halliste.eelk.ee
SUMMARY:Jumalateenistus armulauaga
DESCRIPTION:2.pühapäev enne paastuaega Sexagesima missa \nJuhtmõte: Jumala sõna külv \n  \nKuni ülestõusmispühadeni peame pühapäevaseid missasid kiriku käärkambris
URL:https://halliste.eelk.ee/syndmus/jumalateenistus-armulauaga-16/
END:VEVENT
BEGIN:VEVENT
DTSTART;TZID=Europe/Tallinn:20260222T110000
DTEND;TZID=Europe/Tallinn:20260222T120000
DTSTAMP:20260421T212927
CREATED:20260212T072422Z
LAST-MODIFIED:20260212T073201Z
UID:547-1771758000-1771761600@halliste.eelk.ee
SUMMARY:Jumalateenistus armulauaga
DESCRIPTION:Paastuaja 1.pühapäev Invocavit \nMissa juhtmõte: Jeesus-kiusatuste võitja \nKuni ülestõusmispühadeni peame pühapäevaseid missasid kiriku käärkambris
URL:https://halliste.eelk.ee/syndmus/jumalateenistus-armulauaga-21/
END:VEVENT
BEGIN:VEVENT
DTSTART;TZID=Europe/Tallinn:20260308T110000
DTEND;TZID=Europe/Tallinn:20260308T120000
DTSTAMP:20260421T212927
CREATED:20260124T055207Z
LAST-MODIFIED:20260124T055706Z
UID:534-1772967600-1772971200@halliste.eelk.ee
SUMMARY:Jumalateenistus armulauaga
DESCRIPTION:Paastuaja 3. pühapäev Oculi missa \nJuhtmõte: Jeesus – kurjuse võimu võitja \n  \nKuni ülestõusmispühadeni peame pühapäevaseid missasid kiriku käärkambris
URL:https://halliste.eelk.ee/syndmus/jumalateenistus-armulauaga-18/
END:VEVENT
BEGIN:VEVENT
DTSTART;TZID=Europe/Tallinn:20260320T170000
DTEND;TZID=Europe/Tallinn:20260320T183000
DTSTAMP:20260421T212927
CREATED:20260124T055320Z
LAST-MODIFIED:20260124T055320Z
UID:536-1774026000-1774031400@halliste.eelk.ee
SUMMARY:Muusikaline õhtupalvus -Kalev Raave 100
DESCRIPTION:Muusikaline õhtupalvus -Kalev Raave 100 \nPeale palvust lillede asetamine Kalev Raave hauale ning koosviibimine Halliste koolis
URL:https://halliste.eelk.ee/syndmus/muusikaline-ohtupalvus-kalev-raave-100/
END:VEVENT
BEGIN:VEVENT
DTSTART;TZID=Europe/Tallinn:20260322T110000
DTEND;TZID=Europe/Tallinn:20260322T120000
DTSTAMP:20260421T212927
CREATED:20260124T055502Z
LAST-MODIFIED:20260124T055651Z
UID:538-1774177200-1774180800@halliste.eelk.ee
SUMMARY:Jumalateenistus armulauaga
DESCRIPTION:Paastuaja 5. pühapäev Judica missa \nJuhtmõte: Kannatuse pühapäev \n  \nKuni ülestõusmispühadeni peame pühapäevaseid missasid kiriku käärkambris
URL:https://halliste.eelk.ee/syndmus/jumalateenistus-armulauaga-19/
END:VEVENT
BEGIN:VEVENT
DTSTART;TZID=Europe/Tallinn:20260402T160000
DTEND;TZID=Europe/Tallinn:20260402T170000
DTSTAMP:20260421T212927
CREATED:20260224T195124Z
LAST-MODIFIED:20260411T172901Z
UID:553-1775145600-1775149200@halliste.eelk.ee
SUMMARY:Õhtupalvus armulauaga
DESCRIPTION:Suur Neljapäev \nÕhtupalvus armulauaga \nJuhtmõte: Püha armulaud \n 
URL:https://halliste.eelk.ee/syndmus/jumalateenistus-armulauaga-17/
END:VEVENT
BEGIN:VEVENT
DTSTART;TZID=Europe/Tallinn:20260403T110000
DTEND;TZID=Europe/Tallinn:20260403T120000
DTSTAMP:20260421T212927
CREATED:20260224T195233Z
LAST-MODIFIED:20260411T172942Z
UID:555-1775214000-1775217600@halliste.eelk.ee
SUMMARY:Liturgiline jumalateenistus
DESCRIPTION:Suur Reede \nLiturgiline jumalateenistus \nJuhtmõte: Jumala Tall
URL:https://halliste.eelk.ee/syndmus/jumalateenistus-armulauaga-20/
END:VEVENT
BEGIN:VEVENT
DTSTART;TZID=Europe/Tallinn:20260405T110000
DTEND;TZID=Europe/Tallinn:20260405T120000
DTSTAMP:20260421T212927
CREATED:20260224T195435Z
LAST-MODIFIED:20260224T195435Z
UID:557-1775386800-1775390400@halliste.eelk.ee
SUMMARY:Jumalateenistus armulauaga
DESCRIPTION:Kristuse ülestõusmise püha ehk 1. ülestõusmispüha \nMissa juhtmõte: Kristus on surnuist üles tõusnud \n 
URL:https://halliste.eelk.ee/syndmus/jumalateenistus-armulauaga-22/
END:VEVENT
BEGIN:VEVENT
DTSTART;TZID=Europe/Tallinn:20260412T110000
DTEND;TZID=Europe/Tallinn:20260412T120000
DTSTAMP:20260421T212927
CREATED:20260224T195623Z
LAST-MODIFIED:20260224T195623Z
UID:559-1775991600-1775995200@halliste.eelk.ee
SUMMARY:Jumalateenistus armulauaga
DESCRIPTION:Ülestõusmisaja 2. pühapäev Quasimodogeniti; Dominica in albis \nMissa juhtmõte: Ülestõusnu tunnistajad \n 
URL:https://halliste.eelk.ee/syndmus/jumalateenistus-armulauaga-23/
END:VEVENT
BEGIN:VEVENT
DTSTART;TZID=Europe/Tallinn:20260426T110000
DTEND;TZID=Europe/Tallinn:20260426T120000
DTSTAMP:20260421T212927
CREATED:20260224T195724Z
LAST-MODIFIED:20260224T195724Z
UID:561-1777201200-1777204800@halliste.eelk.ee
SUMMARY:Jumalateenistus armulauaga
DESCRIPTION:Ülestõusmisaja 4. pühapäev Jubilate \nMissa juhtmõte: Jumala rahva koduigatsus
URL:https://halliste.eelk.ee/syndmus/jumalateenistus-armulauaga-24/
END:VEVENT
BEGIN:VEVENT
DTSTART;TZID=Europe/Tallinn:20260510T110000
DTEND;TZID=Europe/Tallinn:20260510T120000
DTSTAMP:20260421T212927
CREATED:20260411T172703Z
LAST-MODIFIED:20260411T172703Z
UID:567-1778410800-1778414400@halliste.eelk.ee
SUMMARY:Jumalateenistus armulauaga
DESCRIPTION:  \nÜlestõusmisaja 6. pühapäev. Palvepühapäev Rogate; emadepäev\nMissa juhtmõte: Südame kõne Jumalaga
URL:https://halliste.eelk.ee/syndmus/jumalateenistus-armulauaga-25/
END:VEVENT
BEGIN:VEVENT
DTSTART;TZID=Europe/Tallinn:20260524T110000
DTEND;TZID=Europe/Tallinn:20260524T120000
DTSTAMP:20260421T212927
CREATED:20260411T172806Z
LAST-MODIFIED:20260411T172806Z
UID:569-1779620400-1779624000@halliste.eelk.ee
SUMMARY:Jumalateenistus armulauaga
DESCRIPTION:  \n\nnelipüha\n\nMissa juhtmõte: Püha Vaimu väljavalamine
URL:https://halliste.eelk.ee/syndmus/jumalateenistus-armulauaga-26/
END:VEVENT
END:VCALENDAR