BEGIN:VCALENDAR
VERSION:2.0
PRODID:-//EELK Halliste Püha Anna kogudus - ECPv6.2.9//NONSGML v1.0//EN
CALSCALE:GREGORIAN
METHOD:PUBLISH
X-WR-CALNAME:EELK Halliste Püha Anna kogudus
X-ORIGINAL-URL:https://halliste.eelk.ee
X-WR-CALDESC:Events for EELK Halliste Püha Anna kogudus
REFRESH-INTERVAL;VALUE=DURATION:PT1H
X-Robots-Tag:noindex
X-PUBLISHED-TTL:PT1H
BEGIN:VTIMEZONE
TZID:Europe/Tallinn
BEGIN:DAYLIGHT
TZOFFSETFROM:+0200
TZOFFSETTO:+0300
TZNAME:EEST
DTSTART:20250330T010000
END:DAYLIGHT
BEGIN:STANDARD
TZOFFSETFROM:+0300
TZOFFSETTO:+0200
TZNAME:EET
DTSTART:20251026T010000
END:STANDARD
END:VTIMEZONE
BEGIN:VEVENT
DTSTART;TZID=Europe/Tallinn:20250810T110000
DTEND;TZID=Europe/Tallinn:20250810T120000
DTSTAMP:20260421T224601
CREATED:20250801T165308Z
LAST-MODIFIED:20250801T165325Z
UID:461-1754823600-1754827200@halliste.eelk.ee
SUMMARY:Jumalateenistus armulauaga
DESCRIPTION:Pühapäev pärast nelipüha \nMissa juhtmõte: Tõde ja eksitus \n  \n  \n 
URL:https://halliste.eelk.ee/syndmus/jumalateenistus-armulauaga-5/
END:VEVENT
BEGIN:VEVENT
DTSTART;TZID=Europe/Tallinn:20250727T110000
DTEND;TZID=Europe/Tallinn:20250727T120000
DTSTAMP:20260421T224601
CREATED:20250628T062022Z
LAST-MODIFIED:20250628T062022Z
UID:457-1753614000-1753617600@halliste.eelk.ee
SUMMARY:Jumalateenistus armulauaga
DESCRIPTION:7.pühapäev pärast nelipüha \nMissa juhtmõte: Armastuskäsk
URL:https://halliste.eelk.ee/syndmus/jumalateenistus-armulauaga-4/
END:VEVENT
BEGIN:VEVENT
DTSTART;TZID=Europe/Tallinn:20250718T190000
DTEND;TZID=Europe/Tallinn:20250718T203000
DTSTAMP:20260421T224601
CREATED:20250628T061925Z
LAST-MODIFIED:20250628T062124Z
UID:455-1752865200-1752870600@halliste.eelk.ee
SUMMARY:Viljandi Orelifestivali kontsert KODUMAINE MOSAIIK
DESCRIPTION:KODUMAINE MOSAIIK \nLeena Laas – viiul\nTuuliki Jürjo – orel\, klaver \nKavas:Eller\, Lemba\, Mägi\,Kapp\, Pärt jt \nMuusikud rõõmustavad kuulajaid mitmete tuntud ja armsaks saanud eesti meloodiatega\, nagu Elleri „Kodumaine viis“ ja Pärdi „Ukuaru valss“\, kuid kavas on ka uudseid ja rütmikaid heliteoseid. Kuulaja saab mõttes end hoogsate tantsuviisidega kaasa keerutada ning mõtiskleda koos unistavate lauludega.\nPiletid 15.- / 10.-
URL:https://halliste.eelk.ee/syndmus/viljandi-orelifestivali-kontsert-kodumaine-mosaiik/
END:VEVENT
BEGIN:VEVENT
DTSTART;TZID=Europe/Tallinn:20250713T110000
DTEND;TZID=Europe/Tallinn:20250713T120000
DTSTAMP:20260421T224601
CREATED:20250628T061632Z
LAST-MODIFIED:20250628T062218Z
UID:453-1752404400-1752408000@halliste.eelk.ee
SUMMARY:Jumalateenistus armulauaga
DESCRIPTION:5.pühapäev pärast nelipüha \nMissa juhtmõte: Halastage!
URL:https://halliste.eelk.ee/syndmus/jumalateenistus-armulauaga-3/
END:VEVENT
BEGIN:VEVENT
DTSTART;TZID=Europe/Tallinn:20250629T110000
DTEND;TZID=Europe/Tallinn:20250629T120000
DTSTAMP:20260421T224601
CREATED:20250608T164159Z
LAST-MODIFIED:20250608T164159Z
UID:446-1751194800-1751198400@halliste.eelk.ee
SUMMARY:Jumalateenistus armulauaga
DESCRIPTION:3.pühapäev pärast nelipüha \nmissa Juhtmõte: Kutse Jumala riiki
URL:https://halliste.eelk.ee/syndmus/jumalateenistus-armulauaga-2/
END:VEVENT
BEGIN:VEVENT
DTSTART;TZID=Europe/Tallinn:20250623T130000
DTEND;TZID=Europe/Tallinn:20250623T140000
DTSTAMP:20260421T224601
CREATED:20250608T164032Z
LAST-MODIFIED:20250608T164325Z
UID:444-1750683600-1750687200@halliste.eelk.ee
SUMMARY:Võidupüha- surnuaiapüha Abja kalmistul
DESCRIPTION:Surnuaiapüha Abja kalmistul
URL:https://halliste.eelk.ee/syndmus/voidupuha-2/
END:VEVENT
BEGIN:VEVENT
DTSTART;TZID=Europe/Tallinn:20250623T110000
DTEND;TZID=Europe/Tallinn:20250623T120000
DTSTAMP:20260421T224601
CREATED:20250608T163952Z
LAST-MODIFIED:20250608T164522Z
UID:442-1750676400-1750680000@halliste.eelk.ee
SUMMARY:Võidupüha- surnuaiapüha Halliste kalmistul
DESCRIPTION:Surnuaiapüha Halliste kalmistul \n 
URL:https://halliste.eelk.ee/syndmus/voidupuha/
END:VEVENT
BEGIN:VEVENT
DTSTART;TZID=Europe/Tallinn:20250608T110000
DTEND;TZID=Europe/Tallinn:20250608T120000
DTSTAMP:20260421T224601
CREATED:20250608T163757Z
LAST-MODIFIED:20250608T163810Z
UID:440-1749380400-1749384000@halliste.eelk.ee
SUMMARY:Jumalateenistus armulauaga
DESCRIPTION:Nelipüha missa \nJuhtmõte: Püha Vaimu väljavalamine
URL:https://halliste.eelk.ee/syndmus/jumalateenistus-armulauaga/
END:VEVENT
BEGIN:VEVENT
DTSTART;TZID=Europe/Tallinn:20250530T173000
DTEND;TZID=Europe/Tallinn:20250530T193000
DTSTAMP:20260421T224601
CREATED:20250518T155937Z
LAST-MODIFIED:20250518T160001Z
UID:424-1748626200-1748633400@halliste.eelk.ee
SUMMARY:Vaimse tervise kohvik (hooaja viimane)
DESCRIPTION:Hooaja viimane Vaimse tervise kohvik \nTeeme kokkuvõtted hooajal käsitletud teemadest ja vastame küsimustele ning anname kaasa mõned vaimse tervise tööriistad. \nLäbiviijad: Allan Kährik (täiskasvanute koolitaja) \nJana Ots (psühhoterapeut) \nKoht: Kulla Leerimaja
URL:https://halliste.eelk.ee/syndmus/vaimse-tervise-kohvik/
END:VEVENT
BEGIN:VEVENT
DTSTART;TZID=Europe/Tallinn:20250530T173000
DTEND;TZID=Europe/Tallinn:20250530T193000
DTSTAMP:20260421T224601
CREATED:20250503T185611Z
LAST-MODIFIED:20250503T190457Z
UID:419-1748626200-1748633400@halliste.eelk.ee
SUMMARY:Vaimse tervise kohvik
DESCRIPTION:Vaimse tervise kohvik Kulla leerimajas \nKohviku vestluseid aitavad kavandada ja käigus hoida \nJana Ots (psühhoanalüütiline psühhoterapeut) \nAllan Kährik (täiskasvanute koolitaja)
URL:https://halliste.eelk.ee/syndmus/vaimse-tervise-kohvik-5/
LOCATION:Kulla leerimaja\, Kulla\, Viljandi maakond\, 69509\, Eesti
END:VEVENT
BEGIN:VEVENT
DTSTART;TZID=Europe/Tallinn:20250525T110000
DTEND;TZID=Europe/Tallinn:20250525T110000
DTSTAMP:20260421T224601
CREATED:20250503T182621Z
LAST-MODIFIED:20250503T185117Z
UID:410-1748170800-1748170800@halliste.eelk.ee
SUMMARY:Jumalateenistus armulauaga
DESCRIPTION:Ülestõusmisaja 6. pühapäev. Palvepühapäev Rogate Missa\nJuhtmõte: Südame kõne Jumalaga
URL:https://halliste.eelk.ee/syndmus/jumalateenistus-armulauaga-35/
END:VEVENT
BEGIN:VEVENT
DTSTART;TZID=Europe/Tallinn:20250522T173000
DTEND;TZID=Europe/Tallinn:20250522T173000
DTSTAMP:20260421T224601
CREATED:20250503T182201Z
LAST-MODIFIED:20250503T185231Z
UID:405-1747935000-1747935000@halliste.eelk.ee
SUMMARY:Kontsert-palvus
DESCRIPTION:  \n \n„Laula laula suukene“\nHarjumaa noorte projektikoori\nKontsert-palvus Halliste Püha Anna kirikus\nÜles astuvad:\nKose Gümnaasiumi noortekoor\nKiili Gümnaasiumi noortekoor\nDirigendid: Piret Artjušin\, Airi Aalberg\, Heli Sepp\nKlaveril: Emil Raja
URL:https://halliste.eelk.ee/syndmus/kontsert-palvus/
END:VEVENT
BEGIN:VEVENT
DTSTART;TZID=Europe/Tallinn:20250511T110000
DTEND;TZID=Europe/Tallinn:20250511T110000
DTSTAMP:20260421T224601
CREATED:20250503T181933Z
LAST-MODIFIED:20250503T185346Z
UID:403-1746961200-1746961200@halliste.eelk.ee
SUMMARY:Emadepäeva muusikaline missa
DESCRIPTION:Ülestõusmisaja 4. pühapäev Jubilate \nEMADEPÄEVA MUUSIKALINE MISSA\nKontserdiosas teenivad kaasa\n– Viljandimaa Meeskoor\, dirigendid Pille Kährik ja Markus Mölder\n– Abja naiskoor Õbeäidsme\, dirigent Külli Salumäe\n– Halliste kooli õpilased\nPärast jumalateenistust on kaetud\nemadepäeva kohvilaud Halliste koolis \nJuhtmõte: Jumala rahva koduigatsus
URL:https://halliste.eelk.ee/syndmus/emadepaeva-muusikaline-missa/
END:VEVENT
END:VCALENDAR