BEGIN:VCALENDAR
VERSION:2.0
PRODID:-//EELK Halliste Püha Anna kogudus - ECPv6.2.9//NONSGML v1.0//EN
CALSCALE:GREGORIAN
METHOD:PUBLISH
X-WR-CALNAME:EELK Halliste Püha Anna kogudus
X-ORIGINAL-URL:https://halliste.eelk.ee
X-WR-CALDESC:Events for EELK Halliste Püha Anna kogudus
REFRESH-INTERVAL;VALUE=DURATION:PT1H
X-Robots-Tag:noindex
X-PUBLISHED-TTL:PT1H
BEGIN:VTIMEZONE
TZID:Europe/Tallinn
BEGIN:DAYLIGHT
TZOFFSETFROM:+0200
TZOFFSETTO:+0300
TZNAME:EEST
DTSTART:20250330T010000
END:DAYLIGHT
BEGIN:STANDARD
TZOFFSETFROM:+0300
TZOFFSETTO:+0200
TZNAME:EET
DTSTART:20251026T010000
END:STANDARD
END:VTIMEZONE
BEGIN:VEVENT
DTSTART;TZID=Europe/Tallinn:20251109T110000
DTEND;TZID=Europe/Tallinn:20251109T120000
DTSTAMP:20260421T184351
CREATED:20251101T142002Z
LAST-MODIFIED:20251101T142434Z
UID:487-1762686000-1762689600@halliste.eelk.ee
SUMMARY:Jumalateenistus armulauaga
DESCRIPTION:Pühapäev pärast nelipüha\, Kiriklik misjonipüha \nMissa juhtmõte: Usuvõitlus
URL:https://halliste.eelk.ee/syndmus/jumalateenistus-armulauaga-11/
END:VEVENT
BEGIN:VEVENT
DTSTART;TZID=Europe/Tallinn:20251123T110000
DTEND;TZID=Europe/Tallinn:20251123T120000
DTSTAMP:20260421T184351
CREATED:20251101T142143Z
LAST-MODIFIED:20251101T142202Z
UID:489-1763895600-1763899200@halliste.eelk.ee
SUMMARY:Jumalateenistus armulauaga
DESCRIPTION:Igavikupühapäev. Kuningas Kristuse püha \nMissa juhtmõte: Kristus – taeva ja maa Issand
URL:https://halliste.eelk.ee/syndmus/jumalateenistus-armulauaga-12/
END:VEVENT
BEGIN:VEVENT
DTSTART;TZID=Europe/Tallinn:20251130T110000
DTEND;TZID=Europe/Tallinn:20251130T120000
DTSTAMP:20260421T184351
CREATED:20251101T142336Z
LAST-MODIFIED:20251101T142336Z
UID:491-1764500400-1764504000@halliste.eelk.ee
SUMMARY:Jumalateenistus armulauaga
DESCRIPTION:Advendiaja 1. pühapäev. Kirikuaasta algus \nMissa juhtmõte: Sinu Kuningas tuleb alandlikkuses
URL:https://halliste.eelk.ee/syndmus/jumalateenistus-armulauaga-13/
END:VEVENT
END:VCALENDAR