BEGIN:VCALENDAR
VERSION:2.0
PRODID:-//EELK Halliste Püha Anna kogudus - ECPv6.2.9//NONSGML v1.0//EN
CALSCALE:GREGORIAN
METHOD:PUBLISH
X-ORIGINAL-URL:https://halliste.eelk.ee
X-WR-CALDESC:Events for EELK Halliste Püha Anna kogudus
REFRESH-INTERVAL;VALUE=DURATION:PT1H
X-Robots-Tag:noindex
X-PUBLISHED-TTL:PT1H
BEGIN:VTIMEZONE
TZID:Europe/Tallinn
BEGIN:DAYLIGHT
TZOFFSETFROM:+0200
TZOFFSETTO:+0300
TZNAME:EEST
DTSTART:20260329T010000
END:DAYLIGHT
BEGIN:STANDARD
TZOFFSETFROM:+0300
TZOFFSETTO:+0200
TZNAME:EET
DTSTART:20261025T010000
END:STANDARD
END:VTIMEZONE
BEGIN:VEVENT
DTSTART;TZID=Europe/Tallinn:20260308T110000
DTEND;TZID=Europe/Tallinn:20260308T120000
DTSTAMP:20260421T132716
CREATED:20260124T055207Z
LAST-MODIFIED:20260124T055706Z
UID:534-1772967600-1772971200@halliste.eelk.ee
SUMMARY:Jumalateenistus armulauaga
DESCRIPTION:Paastuaja 3. pühapäev Oculi missa \nJuhtmõte: Jeesus – kurjuse võimu võitja \n  \nKuni ülestõusmispühadeni peame pühapäevaseid missasid kiriku käärkambris
URL:https://halliste.eelk.ee/syndmus/jumalateenistus-armulauaga-18/
END:VEVENT
BEGIN:VEVENT
DTSTART;TZID=Europe/Tallinn:20260320T170000
DTEND;TZID=Europe/Tallinn:20260320T183000
DTSTAMP:20260421T132716
CREATED:20260124T055320Z
LAST-MODIFIED:20260124T055320Z
UID:536-1774026000-1774031400@halliste.eelk.ee
SUMMARY:Muusikaline õhtupalvus -Kalev Raave 100
DESCRIPTION:Muusikaline õhtupalvus -Kalev Raave 100 \nPeale palvust lillede asetamine Kalev Raave hauale ning koosviibimine Halliste koolis
URL:https://halliste.eelk.ee/syndmus/muusikaline-ohtupalvus-kalev-raave-100/
END:VEVENT
BEGIN:VEVENT
DTSTART;TZID=Europe/Tallinn:20260322T110000
DTEND;TZID=Europe/Tallinn:20260322T120000
DTSTAMP:20260421T132716
CREATED:20260124T055502Z
LAST-MODIFIED:20260124T055651Z
UID:538-1774177200-1774180800@halliste.eelk.ee
SUMMARY:Jumalateenistus armulauaga
DESCRIPTION:Paastuaja 5. pühapäev Judica missa \nJuhtmõte: Kannatuse pühapäev \n  \nKuni ülestõusmispühadeni peame pühapäevaseid missasid kiriku käärkambris
URL:https://halliste.eelk.ee/syndmus/jumalateenistus-armulauaga-19/
END:VEVENT
END:VCALENDAR